BEGIN:VCALENDAR
VERSION:2.0
PRODID:-//The Incorporated Masterbuilders Association of Jamaica - ECPv6.15.13//NONSGML v1.0//EN
CALSCALE:GREGORIAN
METHOD:PUBLISH
X-ORIGINAL-URL:https://imaj.org.jm
X-WR-CALDESC:Events for The Incorporated Masterbuilders Association of Jamaica
REFRESH-INTERVAL;VALUE=DURATION:PT1H
X-Robots-Tag:noindex
X-PUBLISHED-TTL:PT1H
BEGIN:VTIMEZONE
TZID:America/Jamaica
BEGIN:STANDARD
TZOFFSETFROM:-0500
TZOFFSETTO:-0500
TZNAME:EST
DTSTART:20250101T000000
END:STANDARD
END:VTIMEZONE
BEGIN:VEVENT
DTSTART;TZID=America/Jamaica:20260430T121500
DTEND;TZID=America/Jamaica:20260430T131500
DTSTAMP:20260420T010751
CREATED:20260419T174555Z
LAST-MODIFIED:20260419T174649Z
UID:1405-1777551300-1777554900@imaj.org.jm
SUMMARY:Reimagining Procurement Partnerships in the Business of Construction
DESCRIPTION:Reimagining Procurement Partnerships in the Business of Construction\nThursday\, April 30\, 2026 12:15pm -1:15pm\nRegister at: https://imaj.org.jm/register/ \n 
URL:https://imaj.org.jm/event/reimagining-procurement-partnerships-in-the-business-of-construction/
LOCATION:IMAJ Head Office\, 5 Oxford Park Avenue\, New Kingston\, Kingston\, 5\, Jamaica
CATEGORIES:Lunch & Learn,Seminar Series
ATTACH;FMTTYPE=image/jpeg:https://imaj.org.jm/www/wp-content/uploads/2026/04/IMAJ-LunchLearn-PPC.jpeg
ORGANIZER;CN="IMAJ":MAILTO:imaj@cwjamaica.com
END:VEVENT
END:VCALENDAR